BEGIN:VCALENDAR
VERSION:2.0
PRODID:-//OAPFF - ECPv6.15.20//NONSGML v1.0//EN
CALSCALE:GREGORIAN
METHOD:PUBLISH
X-ORIGINAL-URL:https://oapff.org
X-WR-CALDESC:Events for OAPFF
REFRESH-INTERVAL;VALUE=DURATION:PT1H
X-Robots-Tag:noindex
X-PUBLISHED-TTL:PT1H
BEGIN:VTIMEZONE
TZID:America/New_York
BEGIN:DAYLIGHT
TZOFFSETFROM:-0500
TZOFFSETTO:-0400
TZNAME:EDT
DTSTART:20250309T070000
END:DAYLIGHT
BEGIN:STANDARD
TZOFFSETFROM:-0400
TZOFFSETTO:-0500
TZNAME:EST
DTSTART:20251102T060000
END:STANDARD
BEGIN:DAYLIGHT
TZOFFSETFROM:-0500
TZOFFSETTO:-0400
TZNAME:EDT
DTSTART:20260308T070000
END:DAYLIGHT
BEGIN:STANDARD
TZOFFSETFROM:-0400
TZOFFSETTO:-0500
TZNAME:EST
DTSTART:20261101T060000
END:STANDARD
BEGIN:DAYLIGHT
TZOFFSETFROM:-0500
TZOFFSETTO:-0400
TZNAME:EDT
DTSTART:20270314T070000
END:DAYLIGHT
BEGIN:STANDARD
TZOFFSETFROM:-0400
TZOFFSETTO:-0500
TZNAME:EST
DTSTART:20271107T060000
END:STANDARD
END:VTIMEZONE
BEGIN:VEVENT
DTSTART;VALUE=DATE:20260511
DTEND;VALUE=DATE:20260512
DTSTAMP:20260420T045857
CREATED:20260319T160427Z
LAST-MODIFIED:20260319T161751Z
UID:10000237-1778457600-1778543999@oapff.org
SUMMARY:2026 Chip Terry Fund Charitable Golf Outing
DESCRIPTION:
URL:https://oapff.org/event/2026-chip-terry-fund-charitable-golf-outing/
LOCATION:California Golf Course\, 5924 Kellogg Ave\, Cincinnati\, OH 45228\, 5924 Kellogg Ave\,\, Cincinnati\, OH\, 45228\, United States
CATEGORIES:4th District
ORGANIZER;CN="Brian Fels":MAILTO:bfels01@msn.com
END:VEVENT
END:VCALENDAR