BEGIN:VCALENDAR
VERSION:2.0
PRODID:-//OAPFF - ECPv6.15.20//NONSGML v1.0//EN
CALSCALE:GREGORIAN
METHOD:PUBLISH
X-ORIGINAL-URL:https://oapff.org
X-WR-CALDESC:Events for OAPFF
REFRESH-INTERVAL;VALUE=DURATION:PT1H
X-Robots-Tag:noindex
X-PUBLISHED-TTL:PT1H
BEGIN:VTIMEZONE
TZID:America/New_York
BEGIN:DAYLIGHT
TZOFFSETFROM:-0500
TZOFFSETTO:-0400
TZNAME:EDT
DTSTART:20250309T070000
END:DAYLIGHT
BEGIN:STANDARD
TZOFFSETFROM:-0400
TZOFFSETTO:-0500
TZNAME:EST
DTSTART:20251102T060000
END:STANDARD
BEGIN:DAYLIGHT
TZOFFSETFROM:-0500
TZOFFSETTO:-0400
TZNAME:EDT
DTSTART:20260308T070000
END:DAYLIGHT
BEGIN:STANDARD
TZOFFSETFROM:-0400
TZOFFSETTO:-0500
TZNAME:EST
DTSTART:20261101T060000
END:STANDARD
BEGIN:DAYLIGHT
TZOFFSETFROM:-0500
TZOFFSETTO:-0400
TZNAME:EDT
DTSTART:20270314T070000
END:DAYLIGHT
BEGIN:STANDARD
TZOFFSETFROM:-0400
TZOFFSETTO:-0500
TZNAME:EST
DTSTART:20271107T060000
END:STANDARD
END:VTIMEZONE
BEGIN:VEVENT
DTSTART;VALUE=DATE:20260305
DTEND;VALUE=DATE:20260307
DTSTAMP:20260421T113329
CREATED:20260203T012005Z
LAST-MODIFIED:20260224T201140Z
UID:14185-1772668800-1772841599@oapff.org
SUMMARY:2026 Cleveland Fire Fighters Local 93 Hockey Fest
DESCRIPTION:Click here for the Hockey Fest Flyer
URL:https://oapff.org/event/2026-cleveland-fire-fighters-local-93-hockey-fest/
LOCATION:OH
CATEGORIES:2nd District
END:VEVENT
BEGIN:VEVENT
DTSTART;TZID=America/New_York:20260306T190000
DTEND;TZID=America/New_York:20260306T190000
DTSTAMP:20260421T113329
CREATED:20251201T031219Z
LAST-MODIFIED:20251201T031229Z
UID:13614-1772823600-1772823600@oapff.org
SUMMARY:Fairfield Firefighters Local 4010 Presents Dawg Fight II
DESCRIPTION:
URL:https://oapff.org/event/fairfield-firefighters-local-4010-presents-dawg-fight-ii/
LOCATION:Lori’s Roadhouse\, 4924 Union Centre Pavilion Dr.\, Ste B.\, West Chester\, OH\, 45069
CATEGORIES:4th District
ORGANIZER;CN="Fairfield Firefighters Local 4010":MAILTO:dawgfight4010@gmail.com
END:VEVENT
BEGIN:VEVENT
DTSTART;VALUE=DATE:20260308
DTEND;VALUE=DATE:20260312
DTSTAMP:20260421T113329
CREATED:20251128T210958Z
LAST-MODIFIED:20251128T210958Z
UID:13604-1772928000-1773273599@oapff.org
SUMMARY:U.S. Legislative Conference
DESCRIPTION:
URL:https://oapff.org/event/u-s-legislative-conference/
LOCATION:Hyatt Regency Capitol Hill\, 400 New Jersey Ave NW\, Washington\, DC\, 20001
CATEGORIES:IAFF
END:VEVENT
BEGIN:VEVENT
DTSTART;TZID=America/New_York:20260319T110000
DTEND;TZID=America/New_York:20260319T120000
DTSTAMP:20260421T113329
CREATED:20260303T171539Z
LAST-MODIFIED:20260303T171650Z
UID:14364-1773918000-1773921600@oapff.org
SUMMARY:Executive Board Meeting
DESCRIPTION:
URL:https://oapff.org/event/springboardmeeting2026/
LOCATION:OAPFF Offices – 1st Floor Conference Room\, 140 E. Town St.\, Columbus\, OH\, 43215
CATEGORIES:OAPFF
END:VEVENT
BEGIN:VEVENT
DTSTART;TZID=America/New_York:20260327T140000
DTEND;TZID=America/New_York:20260327T150000
DTSTAMP:20260421T113329
CREATED:20260320T235136Z
LAST-MODIFIED:20260320T235136Z
UID:14422-1774620000-1774623600@oapff.org
SUMMARY:The Impact of Property Tax Reform on Ohio's Fire Service Webinar
DESCRIPTION:
URL:https://oapff.org/event/propertytaxreformwebinar/
LOCATION:OH
CATEGORIES:OAPFF
END:VEVENT
BEGIN:VEVENT
DTSTART;VALUE=DATE:20260329
DTEND;VALUE=DATE:20260403
DTSTAMP:20260421T113329
CREATED:20251128T210520Z
LAST-MODIFIED:20251128T210520Z
UID:13601-1774742400-1775174399@oapff.org
SUMMARY:Strive for Excellence Summit
DESCRIPTION:
URL:https://oapff.org/event/strive-for-excellence-summit/
LOCATION:MGM Grand Las Vegas\, 3799 S. Las Vegas Blvd.\, Las Vegas\, NV\, 89109
CATEGORIES:IAFF
END:VEVENT
BEGIN:VEVENT
DTSTART;VALUE=DATE:20260330
DTEND;VALUE=DATE:20260403
DTSTAMP:20260421T113329
CREATED:20260306T144754Z
LAST-MODIFIED:20260306T154103Z
UID:14398-1774828800-1775174399@oapff.org
SUMMARY:Ohio AFL-CIO Workers' Compensation Institute
DESCRIPTION:
URL:https://oapff.org/event/aflcioworkerscompinstitute/
LOCATION:Hilton Columbus Downtown\, 402 N. High St.\, Columbus\, OH\, 43215
CATEGORIES:Other Event
END:VEVENT
END:VCALENDAR