BEGIN:VCALENDAR
VERSION:2.0
PRODID:-//OAPFF - ECPv6.15.20//NONSGML v1.0//EN
CALSCALE:GREGORIAN
METHOD:PUBLISH
X-WR-CALNAME:OAPFF
X-ORIGINAL-URL:https://oapff.org
X-WR-CALDESC:Events for OAPFF
REFRESH-INTERVAL;VALUE=DURATION:PT1H
X-Robots-Tag:noindex
X-PUBLISHED-TTL:PT1H
BEGIN:VTIMEZONE
TZID:America/New_York
BEGIN:DAYLIGHT
TZOFFSETFROM:-0500
TZOFFSETTO:-0400
TZNAME:EDT
DTSTART:20250309T070000
END:DAYLIGHT
BEGIN:STANDARD
TZOFFSETFROM:-0400
TZOFFSETTO:-0500
TZNAME:EST
DTSTART:20251102T060000
END:STANDARD
BEGIN:DAYLIGHT
TZOFFSETFROM:-0500
TZOFFSETTO:-0400
TZNAME:EDT
DTSTART:20260308T070000
END:DAYLIGHT
BEGIN:STANDARD
TZOFFSETFROM:-0400
TZOFFSETTO:-0500
TZNAME:EST
DTSTART:20261101T060000
END:STANDARD
BEGIN:DAYLIGHT
TZOFFSETFROM:-0500
TZOFFSETTO:-0400
TZNAME:EDT
DTSTART:20270314T070000
END:DAYLIGHT
BEGIN:STANDARD
TZOFFSETFROM:-0400
TZOFFSETTO:-0500
TZNAME:EST
DTSTART:20271107T060000
END:STANDARD
END:VTIMEZONE
BEGIN:VEVENT
DTSTART;TZID=America/New_York:20260207T090000
DTEND;TZID=America/New_York:20260207T160000
DTSTAMP:20260421T195722
CREATED:20251230T154754Z
LAST-MODIFIED:20251230T155845Z
UID:13888-1770454800-1770480000@oapff.org
SUMMARY:Fremont Firefighters Local 328 Presents: Rob Ramirez - Mayday Mindset
DESCRIPTION:
URL:https://oapff.org/event/fremont-firefighters-local-328-presents-rob-ramirez-mayday-mindset/
LOCATION:Neely Center\, 2830 Napoleon Rd.\, Fremont\, OH\, 43420
CATEGORIES:1st District
END:VEVENT
BEGIN:VEVENT
DTSTART;TZID=America/New_York:20260221T120000
DTEND;TZID=America/New_York:20260221T160000
DTSTAMP:20260421T195722
CREATED:20251230T150156Z
LAST-MODIFIED:20251230T150156Z
UID:13884-1771675200-1771689600@oapff.org
SUMMARY:Miami Township Firefighters Local 3768 Bowling Fundraiser
DESCRIPTION:
URL:https://oapff.org/event/miami-township-firefighters-local-3768-bowling-fundraiser/
LOCATION:Eastgate Lanes\, 1362 State Route 28\, Loveland\, OH\, 45140
CATEGORIES:4th District
END:VEVENT
BEGIN:VEVENT
DTSTART;VALUE=DATE:20260223
DTEND;VALUE=DATE:20260225
DTSTAMP:20260421T195722
CREATED:20251204T175427Z
LAST-MODIFIED:20260215T163734Z
UID:13677-1771804800-1771977599@oapff.org
SUMMARY:Advancing the Line: Enhanced Union Officer Training
DESCRIPTION:Advancing the Line is the Ohio Association of Professional Fire Fighters’ premier leadership development program designed for experienced union officers ready to elevate their skills and impact. This advanced training builds on the foundation of local leadership\, focusing on strategic advocacy\, labor relations\, contract enforcement\, communication\, and member engagement. Participants will learn from seasoned union leaders\, labor professionals\, and policy experts through interactive sessions and real-world scenarios. The goal is to strengthen our collective voice\, ensure effective representation\, and prepare officers to lead their locals\, and our union\, into the future.\n \n  \nClick HERE for Hotel Information
URL:https://oapff.org/event/advancing-the-line-union-leadership-training/
LOCATION:Renaissance Hotel Downtown Columbus\, 50 N 3rd St\, Columbus\, OH\, 43215
CATEGORIES:OAPFF
END:VEVENT
END:VCALENDAR