BEGIN:VCALENDAR
VERSION:2.0
PRODID:-//OAPFF - ECPv6.15.20//NONSGML v1.0//EN
CALSCALE:GREGORIAN
METHOD:PUBLISH
X-ORIGINAL-URL:https://oapff.org
X-WR-CALDESC:Events for OAPFF
REFRESH-INTERVAL;VALUE=DURATION:PT1H
X-Robots-Tag:noindex
X-PUBLISHED-TTL:PT1H
BEGIN:VTIMEZONE
TZID:America/New_York
BEGIN:DAYLIGHT
TZOFFSETFROM:-0500
TZOFFSETTO:-0400
TZNAME:EDT
DTSTART:20220313T070000
END:DAYLIGHT
BEGIN:STANDARD
TZOFFSETFROM:-0400
TZOFFSETTO:-0500
TZNAME:EST
DTSTART:20221106T060000
END:STANDARD
BEGIN:DAYLIGHT
TZOFFSETFROM:-0500
TZOFFSETTO:-0400
TZNAME:EDT
DTSTART:20230312T070000
END:DAYLIGHT
BEGIN:STANDARD
TZOFFSETFROM:-0400
TZOFFSETTO:-0500
TZNAME:EST
DTSTART:20231105T060000
END:STANDARD
BEGIN:DAYLIGHT
TZOFFSETFROM:-0500
TZOFFSETTO:-0400
TZNAME:EDT
DTSTART:20240310T070000
END:DAYLIGHT
BEGIN:STANDARD
TZOFFSETFROM:-0400
TZOFFSETTO:-0500
TZNAME:EST
DTSTART:20241103T060000
END:STANDARD
END:VTIMEZONE
BEGIN:VEVENT
DTSTART;TZID=America/New_York:20231019T170000
DTEND;TZID=America/New_York:20231019T200000
DTSTAMP:20260421T092646
CREATED:20231002T222854Z
LAST-MODIFIED:20231002T223235Z
UID:11416-1697734800-1697745600@oapff.org
SUMMARY:OAPFF 3rd District Meeting - Fall 2023
DESCRIPTION:
URL:https://oapff.org/event/oapff-3rd-district-meeting/
LOCATION:SOL Willoughby\, 38257 Glen Ave\, Willoughby\, OH\, 44094\, United States
END:VEVENT
BEGIN:VEVENT
DTSTART;TZID=America/New_York:20231026T170000
DTEND;TZID=America/New_York:20231026T200000
DTSTAMP:20260421T092646
CREATED:20231014T204838Z
LAST-MODIFIED:20231014T204838Z
UID:11428-1698339600-1698350400@oapff.org
SUMMARY:OAPFF 1ST District Meeting Fall 2023
DESCRIPTION:
URL:https://oapff.org/event/oapff-1st-district-meeting-fall-2023/
LOCATION:American Legion Post 96\, 711 South Shore Drive\, Lima\, OH\, 45804\, United States
END:VEVENT
END:VCALENDAR