BEGIN:VCALENDAR
VERSION:2.0
PRODID:-//OAPFF - ECPv6.15.20//NONSGML v1.0//EN
CALSCALE:GREGORIAN
METHOD:PUBLISH
X-WR-CALNAME:OAPFF
X-ORIGINAL-URL:https://oapff.org
X-WR-CALDESC:Events for OAPFF
REFRESH-INTERVAL;VALUE=DURATION:PT1H
X-Robots-Tag:noindex
X-PUBLISHED-TTL:PT1H
BEGIN:VTIMEZONE
TZID:UTC
BEGIN:STANDARD
TZOFFSETFROM:+0000
TZOFFSETTO:+0000
TZNAME:UTC
DTSTART:20160101T000000
END:STANDARD
END:VTIMEZONE
BEGIN:VEVENT
DTSTART;TZID=UTC:20180412T170000
DTEND;TZID=UTC:20180412T220000
DTSTAMP:20260420T123230
CREATED:20180320T191824Z
LAST-MODIFIED:20180320T191824Z
UID:10000135-1523552400-1523570400@oapff.org
SUMMARY:First District Meeting
DESCRIPTION:
URL:https://oapff.org/event/first-district-meeting-2/
LOCATION:OH
END:VEVENT
BEGIN:VEVENT
DTSTART;TZID=UTC:20180412T170000
DTEND;TZID=UTC:20180412T220000
DTSTAMP:20260420T123230
CREATED:20180320T191824Z
LAST-MODIFIED:20180320T191824Z
UID:10000136-1523552400-1523570400@oapff.org
SUMMARY:First District Meeting
DESCRIPTION:
URL:https://oapff.org/event/first-district-meeting-2-2/
LOCATION:OH
END:VEVENT
BEGIN:VEVENT
DTSTART;TZID=UTC:20180412T110000
DTEND;TZID=UTC:20180412T150000
DTSTAMP:20260420T123230
CREATED:20180320T192358Z
LAST-MODIFIED:20180320T192358Z
UID:10000152-1523530800-1523545200@oapff.org
SUMMARY:Fifth District Meeting
DESCRIPTION:  \n 
URL:https://oapff.org/event/fifth-district-meeting-2-2/
LOCATION:OH
END:VEVENT
BEGIN:VEVENT
DTSTART;TZID=UTC:20180412T110000
DTEND;TZID=UTC:20180412T150000
DTSTAMP:20260420T123230
CREATED:20180320T192358Z
LAST-MODIFIED:20180320T192358Z
UID:10000150-1523530800-1523545200@oapff.org
SUMMARY:Fifth District Meeting
DESCRIPTION:  \n 
URL:https://oapff.org/event/fifth-district-meeting-2/
LOCATION:OH
END:VEVENT
BEGIN:VEVENT
DTSTART;VALUE=DATE:20180212
DTEND;VALUE=DATE:20180214
DTSTAMP:20260420T123230
CREATED:20171120T220329Z
LAST-MODIFIED:20171120T220329Z
UID:10000129-1518393600-1518566399@oapff.org
SUMMARY:2018 Winter Education Conference
DESCRIPTION:Registration for the OAPFF 2018 Winter Education Conference is now open.  The Conference which takes place on February 12 and 13 at the Sheraton Capitol Square in Columbus is the preeminent education opportunity for OAPFF Local Leaders. \nA description of the presentations\, including an event agenda\, can be found in our 2018 Course Catalog . \nRegistration can be completed below by purchasing a ticket.  Registration fee is $245. \nRooms can be reserved for $155 per night as part of the OAPFF Room block here.
URL:https://oapff.org/event/2018-winter-education-conference/
LOCATION:OH
END:VEVENT
BEGIN:VEVENT
DTSTART;VALUE=DATE:20180212
DTEND;VALUE=DATE:20180214
DTSTAMP:20260420T123230
CREATED:20171120T220329Z
LAST-MODIFIED:20171120T220329Z
UID:10000130-1518393600-1518566399@oapff.org
SUMMARY:2018 Winter Education Conference
DESCRIPTION:Registration for the OAPFF 2018 Winter Education Conference is now open.  The Conference which takes place on February 12 and 13 at the Sheraton Capitol Square in Columbus is the preeminent education opportunity for OAPFF Local Leaders. \nA description of the presentations\, including an event agenda\, can be found in our 2018 Course Catalog . \nRegistration can be completed below by purchasing a ticket.  Registration fee is $245. \nRooms can be reserved for $155 per night as part of the OAPFF Room block here.
URL:https://oapff.org/event/2018-winter-education-conference-2/
LOCATION:OH
END:VEVENT
BEGIN:VEVENT
DTSTART;VALUE=DATE:20180113
DTEND;VALUE=DATE:20180115
DTSTAMP:20260420T123230
CREATED:20171004T000510Z
LAST-MODIFIED:20171004T000510Z
UID:10000125-1515801600-1515974399@oapff.org
SUMMARY:Jackson Fire Expo
DESCRIPTION:
URL:https://oapff.org/event/jackson-fire-expo/
LOCATION:OH
END:VEVENT
BEGIN:VEVENT
DTSTART;VALUE=DATE:20180113
DTEND;VALUE=DATE:20180115
DTSTAMP:20260420T123230
CREATED:20171004T000510Z
LAST-MODIFIED:20171004T000510Z
UID:10000126-1515801600-1515974399@oapff.org
SUMMARY:Jackson Fire Expo
DESCRIPTION:
URL:https://oapff.org/event/jackson-fire-expo-2/
LOCATION:OH
END:VEVENT
BEGIN:VEVENT
DTSTART;VALUE=DATE:20171207
DTEND;VALUE=DATE:20171210
DTSTAMP:20260420T123230
CREATED:20170604T022154Z
LAST-MODIFIED:20170604T022154Z
UID:10000116-1512604800-1512863999@oapff.org
SUMMARY:Springfield Educational Seminar
DESCRIPTION:
URL:https://oapff.org/event/springfield-educational-seminar-2/
LOCATION:OH
END:VEVENT
BEGIN:VEVENT
DTSTART;VALUE=DATE:20171207
DTEND;VALUE=DATE:20171210
DTSTAMP:20260420T123230
CREATED:20170604T022154Z
LAST-MODIFIED:20170604T022154Z
UID:10000114-1512604800-1512863999@oapff.org
SUMMARY:Springfield Educational Seminar
DESCRIPTION:
URL:https://oapff.org/event/springfield-educational-seminar/
LOCATION:OH
END:VEVENT
BEGIN:VEVENT
DTSTART;VALUE=DATE:20171113
DTEND;VALUE=DATE:20171115
DTSTAMP:20260420T123230
CREATED:20170820T191416Z
LAST-MODIFIED:20170820T191416Z
UID:10000118-1510531200-1510703999@oapff.org
SUMMARY:IAFF 8th Dist PEP Education Class
DESCRIPTION:
URL:https://oapff.org/event/iaff-8th-dist-pep-education-class-2/
LOCATION:OH
END:VEVENT
BEGIN:VEVENT
DTSTART;VALUE=DATE:20171113
DTEND;VALUE=DATE:20171115
DTSTAMP:20260420T123230
CREATED:20170820T191416Z
LAST-MODIFIED:20251121T203605Z
UID:10000119-1510531200-1510703999@oapff.org
SUMMARY:IAFF 8th Dist PEP Education Class
DESCRIPTION:
URL:https://oapff.org/event/iaff-8th-dist-pep-education-class/
LOCATION:OH
CATEGORIES:IAFF
END:VEVENT
BEGIN:VEVENT
DTSTART;TZID=UTC:20171104T080000
DTEND;TZID=UTC:20171104T170000
DTSTAMP:20260420T123230
CREATED:20171009T034804Z
LAST-MODIFIED:20171009T034804Z
UID:10000117-1509782400-1509814800@oapff.org
SUMMARY:Newark Crossfit Competition to benefit Coats for Kids
DESCRIPTION:
URL:https://oapff.org/event/newark-crossfit-competition-to-benefit-coats-for-kids/
LOCATION:OH
END:VEVENT
BEGIN:VEVENT
DTSTART;TZID=UTC:20171104T080000
DTEND;TZID=UTC:20171104T170000
DTSTAMP:20260420T123230
CREATED:20171009T034804Z
LAST-MODIFIED:20171009T034804Z
UID:10000113-1509782400-1509814800@oapff.org
SUMMARY:Newark Crossfit Competition to benefit Coats for Kids
DESCRIPTION:
URL:https://oapff.org/event/newark-crossfit-competition-to-benefit-coats-for-kids-2/
LOCATION:OH
END:VEVENT
BEGIN:VEVENT
DTSTART;TZID=UTC:20171101T170000
DTEND;TZID=UTC:20171101T200000
DTSTAMP:20260420T123230
CREATED:20171006T022026Z
LAST-MODIFIED:20171006T022026Z
UID:10000109-1509555600-1509566400@oapff.org
SUMMARY:Third District Meeting
DESCRIPTION:
URL:https://oapff.org/event/third-district-meeting-3/
LOCATION:OH
END:VEVENT
BEGIN:VEVENT
DTSTART;TZID=UTC:20171101T170000
DTEND;TZID=UTC:20171101T200000
DTSTAMP:20260420T123230
CREATED:20171006T022026Z
LAST-MODIFIED:20171006T022026Z
UID:10000120-1509555600-1509566400@oapff.org
SUMMARY:Third District Meeting
DESCRIPTION:
URL:https://oapff.org/event/third-district-meeting/
LOCATION:OH
END:VEVENT
BEGIN:VEVENT
DTSTART;TZID=UTC:20171026T170000
DTEND;TZID=UTC:20171026T200000
DTSTAMP:20260420T123230
CREATED:20171006T022132Z
LAST-MODIFIED:20171006T022132Z
UID:10000111-1509037200-1509048000@oapff.org
SUMMARY:First District Meeting
DESCRIPTION:
URL:https://oapff.org/event/first-district-meeting-4/
LOCATION:OH
END:VEVENT
BEGIN:VEVENT
DTSTART;TZID=UTC:20171026T170000
DTEND;TZID=UTC:20171026T200000
DTSTAMP:20260420T123230
CREATED:20171006T022132Z
LAST-MODIFIED:20171006T022132Z
UID:10000110-1509037200-1509048000@oapff.org
SUMMARY:First District Meeting
DESCRIPTION:
URL:https://oapff.org/event/first-district-meeting/
LOCATION:OH
END:VEVENT
BEGIN:VEVENT
DTSTART;TZID=UTC:20171026T120000
DTEND;TZID=UTC:20171026T150000
DTSTAMP:20260420T123230
CREATED:20171006T022223Z
LAST-MODIFIED:20171006T022223Z
UID:10000112-1509019200-1509030000@oapff.org
SUMMARY:Second District Meeting
DESCRIPTION:
URL:https://oapff.org/event/second-district-meeting/
LOCATION:OH
END:VEVENT
BEGIN:VEVENT
DTSTART;TZID=UTC:20171026T120000
DTEND;TZID=UTC:20171026T150000
DTSTAMP:20260420T123230
CREATED:20171006T022223Z
LAST-MODIFIED:20171006T022223Z
UID:10000108-1509019200-1509030000@oapff.org
SUMMARY:Second District Meeting
DESCRIPTION:
URL:https://oapff.org/event/second-district-meeting-4/
LOCATION:OH
END:VEVENT
BEGIN:VEVENT
DTSTART;TZID=UTC:20171017T170000
DTEND;TZID=UTC:20171017T170000
DTSTAMP:20260420T123230
CREATED:20171006T021937Z
LAST-MODIFIED:20171006T021937Z
UID:10000122-1508259600-1508259600@oapff.org
SUMMARY:Fourth District Meeting
DESCRIPTION:
URL:https://oapff.org/event/fourth-district-meeting/
LOCATION:OH
END:VEVENT
BEGIN:VEVENT
DTSTART;TZID=UTC:20171017T170000
DTEND;TZID=UTC:20171017T170000
DTSTAMP:20260420T123230
CREATED:20171006T021937Z
LAST-MODIFIED:20171006T021937Z
UID:10000121-1508259600-1508259600@oapff.org
SUMMARY:Fourth District Meeting
DESCRIPTION:
URL:https://oapff.org/event/fourth-district-meeting-4/
LOCATION:OH
END:VEVENT
BEGIN:VEVENT
DTSTART;TZID=UTC:20171017T120000
DTEND;TZID=UTC:20171017T153000
DTSTAMP:20260420T123230
CREATED:20171006T021847Z
LAST-MODIFIED:20171006T021847Z
UID:10000124-1508241600-1508254200@oapff.org
SUMMARY:Fifth District Meeting
DESCRIPTION:
URL:https://oapff.org/event/fifth-district-meeting-4/
LOCATION:OH
END:VEVENT
BEGIN:VEVENT
DTSTART;TZID=UTC:20171017T120000
DTEND;TZID=UTC:20171017T153000
DTSTAMP:20260420T123230
CREATED:20171006T021847Z
LAST-MODIFIED:20171006T021847Z
UID:10000123-1508241600-1508254200@oapff.org
SUMMARY:Fifth District Meeting
DESCRIPTION:
URL:https://oapff.org/event/fifth-district-meeting/
LOCATION:OH
END:VEVENT
END:VCALENDAR