BEGIN:VCALENDAR
VERSION:2.0
PRODID:-//OAPFF - ECPv6.15.20//NONSGML v1.0//EN
CALSCALE:GREGORIAN
METHOD:PUBLISH
X-WR-CALNAME:OAPFF
X-ORIGINAL-URL:https://oapff.org
X-WR-CALDESC:Events for OAPFF
REFRESH-INTERVAL;VALUE=DURATION:PT1H
X-Robots-Tag:noindex
X-PUBLISHED-TTL:PT1H
BEGIN:VTIMEZONE
TZID:America/New_York
BEGIN:DAYLIGHT
TZOFFSETFROM:-0500
TZOFFSETTO:-0400
TZNAME:EDT
DTSTART:20230312T070000
END:DAYLIGHT
BEGIN:STANDARD
TZOFFSETFROM:-0400
TZOFFSETTO:-0500
TZNAME:EST
DTSTART:20231105T060000
END:STANDARD
BEGIN:DAYLIGHT
TZOFFSETFROM:-0500
TZOFFSETTO:-0400
TZNAME:EDT
DTSTART:20240310T070000
END:DAYLIGHT
BEGIN:STANDARD
TZOFFSETFROM:-0400
TZOFFSETTO:-0500
TZNAME:EST
DTSTART:20241103T060000
END:STANDARD
BEGIN:DAYLIGHT
TZOFFSETFROM:-0500
TZOFFSETTO:-0400
TZNAME:EDT
DTSTART:20250309T070000
END:DAYLIGHT
BEGIN:STANDARD
TZOFFSETFROM:-0400
TZOFFSETTO:-0500
TZNAME:EST
DTSTART:20251102T060000
END:STANDARD
END:VTIMEZONE
BEGIN:VEVENT
DTSTART;TZID=America/New_York:20240520T170000
DTEND;TZID=America/New_York:20240523T170000
DTSTAMP:20260425T085708
CREATED:20240209T230616Z
LAST-MODIFIED:20240426T003850Z
UID:10000171-1716224400-1716483600@oapff.org
SUMMARY:OAPFF 54th Biennial Conference 2024
DESCRIPTION:SAVE THE DATE!!\nCHECK BACK REGULARLY FOR UPDATES:\n54th Biennial Conference Resolutions
URL:https://oapff.org/event/oapff-54th-biennial-conference-2024/
LOCATION:Spooky Nook Champion Mill\, 601 North B St.\, Hamilton\, OH 45013\, OH\, 45013\, United States
END:VEVENT
END:VCALENDAR